BEGIN:VCALENDAR
VERSION:2.0
PRODID:-//Floyd Live Music Venue - ECPv6.15.17.1//NONSGML v1.0//EN
CALSCALE:GREGORIAN
METHOD:PUBLISH
X-ORIGINAL-URL:https://www.floyd.gr
X-WR-CALDESC:Events for Floyd Live Music Venue
REFRESH-INTERVAL;VALUE=DURATION:PT1H
X-Robots-Tag:noindex
X-PUBLISHED-TTL:PT1H
BEGIN:VTIMEZONE
TZID:UTC
BEGIN:STANDARD
TZOFFSETFROM:+0000
TZOFFSETTO:+0000
TZNAME:UTC
DTSTART:20220101T000000
END:STANDARD
END:VTIMEZONE
BEGIN:VEVENT
DTSTART;TZID=UTC:20231122T200000
DTEND;TZID=UTC:20231122T233000
DTSTAMP:20260420T022248
CREATED:20231016T102612Z
LAST-MODIFIED:20231030T172755Z
UID:7912-1700683200-1700695800@www.floyd.gr
SUMMARY:MAGNETIC FIELDS
DESCRIPTION:«A tour de force of pop mastery\, his three-disc splurge had everything from lounge jazz to Podunk country to punk parody\, peaking with sidelong standards like “Papa Was a Rodeo” and “The Luckiest Guy on the Lower East Side.»  \nRolling Stone \nOι Magnetic Fields αντιπροσωπεύουν τη δημιουργική παραγωγή του τραγουδοποιού\, τραγουδιστή\, παραγωγού και πολυοργανίστα Stephin Merritt\, ο οποίος\, μαζί με διάφορα μέλη της μπάντας στο τσέλο\, την τούμπα\, τα κρουστά και διάφορα άλλα όργανα\, έγινε η πεμπτουσία του εκκεντρικού ποπ της δεκαετίας του 1990. \nΤο συγκρότημα αναμένεται να ερμηνεύσει κομμάτια από όλη την καριέρα του\, συμπεριλαμβανομένου υλικού από το εμβληματικό τριπλό άλμπουμ του\, «69 Love Songs». Ο Stephin Merritt θα πλαισιωθεί από τα μέλη των Magnetic Fields\, Sam Davol\, Shirley Simms\, Chris Ewen και Anthony Kazynski. \n \nAge restrictions: +14 \nΣύνδεσμοι: \nWebsite – www.houseoftomorrow.com \nFacebook – www.facebook.com/MagneticFields \nInstagram – www.instagram.com/themagfields/ \nYouTube – www.youtube.com/c/MagneticFieldsOfficial
URL:https://www.floyd.gr/event/magnetic-fields/
LOCATION:FLOYD\, Pireos 117\, Athens\, Greece
CATEGORIES:Featured,Συναύλιες
ATTACH;FMTTYPE=image/jpeg:https://www.floyd.gr/wp-content/uploads/2023/10/tmf-chairs-creditMarkYnys-Mon-scaled.jpg
END:VEVENT
END:VCALENDAR