BEGIN:VCALENDAR
VERSION:2.0
PRODID:-//Floyd Live Music Venue - ECPv6.15.17.1//NONSGML v1.0//EN
CALSCALE:GREGORIAN
METHOD:PUBLISH
X-WR-CALNAME:Floyd Live Music Venue
X-ORIGINAL-URL:https://www.floyd.gr
X-WR-CALDESC:Events for Floyd Live Music Venue
REFRESH-INTERVAL;VALUE=DURATION:PT1H
X-Robots-Tag:noindex
X-PUBLISHED-TTL:PT1H
BEGIN:VTIMEZONE
TZID:UTC
BEGIN:STANDARD
TZOFFSETFROM:+0000
TZOFFSETTO:+0000
TZNAME:UTC
DTSTART:20220101T000000
END:STANDARD
END:VTIMEZONE
BEGIN:VEVENT
DTSTART;TZID=UTC:20231209T200000
DTEND;TZID=UTC:20231209T233000
DTSTAMP:20260420T011624
CREATED:20231011T082945Z
LAST-MODIFIED:20231102T162705Z
UID:7897-1702152000-1702164600@www.floyd.gr
SUMMARY:BLACK COUNTRY\, NEW ROAD
DESCRIPTION:Το Σάββατο 9 Δεκεμβρίου\, το Floyd\, το νέο μεγάλο venue της πόλης\, υποδέχεται τους μαγικούς Black Country\, New Road\, την πιο πολυσυζητημένη νέα μπάντα των τελευταίων χρόνων!  \nΗ εξαμελής παρέα από το Λονδίνο έρχεται για πρώτη φορά στη χώρα μας\, για να αποδείξει επί σκηνής γιατί κατόρθωσε\, μέσα σε λίγο καιρό\, να κατακτήσει την καρδιά και το νου κάθε μουσικόφιλου\, κερδίζοντας τον χαρακτηρισμό της “καλύτερης indie band που ακούσαμε ποτέ.” \nΗ προπώληση ξεκινά άμεσα\, προς 27 ευρώ και για περιορισμένο αριθμό εισιτηρίων. Οι επόμενες φάσεις θα ανακοινωθούν στην πορεία. \nΔιάθεση εισιτηρίων: \n• Τηλεφωνικά στο 2117700000\n• Online www.more.com / www.floyd.gr\n• Φυσικά σημεία: Καταστήματα Νova\, Public\, Ευριπίδης\, Yoleni’s και Viva Spot Τεχνόπολης \n \n\n \nFloyd live music venue: Πειραιώς 117\, Γκάζι\, Αθήνα\, πλησίον του Στ. Μετρό Κεραμεικός.\nΤηλ: 210 3450817 \nΟι Black Country\, New Road τάραξαν τα\, συχνά λιμνάζοντα\, νερά της παγκόσμιας μουσικής σκηνής από την πρώτη στιγμή που εμφανίστηκαν σε αυτήν. Ο ήχος τους είναι αδύνατο να περιγραφεί. Όλα τα μέλη της μπάντας\, λίγο πάνω από τα 20 τους χρόνια\, συνεισφέρουν στη δημιουργία ενός μοναδικού μίγματος που “ακροβατεί” ανάμεσα σε post-rock ήχους\, πολύπλοκες ενορχηστρώσεις\, πιανιστικές ενδοσκοπήσεις\, την jazz\, την chamber pop. Aπό τον μινιμαλισμό έως τα ευφορικά ξεσπάσματα\, πολλές φορές μέσα στο ίδιο τραγούδι. \nΤο ντεμπούτο τους\, “For the First Time”\, τον Φεβρουάριο του 2021\, κυριολεκτικά αγνόησε κάθε φόρμα\, ενώνοντας είδη και κάνοντας τους πάντες να τους συγκρίνουν με τους… πάντες. Από Slint\, Arcade Fire και Talking Heads σε Ornette Coleman έως και Klezmer\, την παραδοσιακή εβραϊκή μουσική! \nΈναν χρόνο μετά\, ξανά τον Φεβρουάριο\, ο δεύτερος δίσκος τους\, “Αnts from Up There”\, έγινε και πάλι δεκτός με διθυράμβους! Η απόφαση του τραγουδιστή τους  Isaac Wood να αποσυρθεί\, αμέσως μετά\, για προσωπικούς λόγους φάνηκε αρχικά να σοκάρει την οικογένειά των BC\,NR. Ωστόσο\, δεν ήταν παρά η αφορμή για μια αναπάντεχη κάθαρση που μόνο η μουσική τους θα μπορούσε να τους προσφέρει. \nΤο “Live at Bush Hall” (ναι\, ξανά τον  Φεβρουάριο του 2023) είναι μια συγκλονιστική κατάθεση μιας μπάντας έξι φίλων\, που στήριξαν τον έβδομο στην απόφασή του\, ένα έπος συναισθημάτων με τους  Tyler Hyde\, Lewis Evans και Mary Kershaw να αναλαμβάνουν\, πλέον\, τα φωνητικά. \nΗχογραφημένο ζωντανά\, αλλά στην ουσία τρίτος επίσημος δίσκος τους\, καθώς περιέχει αποκλειστικά νέες συνθέσεις και τραγούδια που δεν συμπεριλήφθηκαν στους δύο πρώτους\, είναι πιθανότατα η κορυφαία στιγμή τους. Ένα πραγματικό επίτευγμα μέχρι\, βέβαια\, το επόμενο. \nTo Σάββατο\, 9 Δεκεμβρίου\, είναι η ημερομηνία που οφείλει να σημειώσει κάθε συνειδητοποιημένος μουσικόφιλος\, καθώς είναι λίγες οι φορές που έχουμε την ευκαιρία να παρακολουθήσουμε μία τόσο σημαντική μπάντα τη στιγμή που πρέπει! \nFollow BC\,NR: \nOfficial website\nFacebook\nInstagram\nSpotify\nYouTube\nSoundcloud \nFollow Floyd: \nOfficial Website\nFacebook\nInstagram\nTikTok\nYouTube \n 
URL:https://www.floyd.gr/event/black-country-new-road/
LOCATION:FLOYD\, Pireos 117\, Athens\, Greece
CATEGORIES:Featured,Συναύλιες
ATTACH;FMTTYPE=image/jpeg:https://www.floyd.gr/wp-content/uploads/2023/10/bcnr-slider.jpg
END:VEVENT
BEGIN:VEVENT
DTSTART;TZID=UTC:20231215T200000
DTEND;TZID=UTC:20231216T233000
DTSTAMP:20260420T011624
CREATED:20231020T083534Z
LAST-MODIFIED:20231212T155119Z
UID:7954-1702670400-1702769400@www.floyd.gr
SUMMARY:Parov Stelar
DESCRIPTION:Το Floyd υποδέχεται τον Parov Stelar για δύο βραδιές απόλυτης διασκέδασης και ασταμάτητου χορού! Την Παρασκευή 15 και το Σάββατο 16 Δεκεμβρίου\, ο Αυστριακός βασιλιάς του electro-swing και η καταπληκτική μπάντα του θα καταλάβουν τη σκηνή του νέου συναυλιακού χώρου της Αθήνας προσκαλώντας μας σε ένα ατελείωτο Χριστουγεννιάτικο πάρτυ! \nΗ προπώληση ξεκινά άμεσα\, προς 40€ και για περιορισμένο αριθμό εισιτηρίων. Μετά την εξάντλησή τους\, η τιμή θα διαμορφωθεί στα 45€. Οι επόμενες φάσεις θα ανακοινωθούν στην πορεία. \nΔιάθεση εισιτηρίων: \n•Τηλεφωνικά στο 2117700000 \n•Online www.more.com / www.floyd.gr \n•Φυσικά σημεία: Καταστήματα Νova\, Public\, Ευριπίδης\, Yoleni’s και Viva Spot Τεχνόπολης \nFloyd live music venue: Πειραιώς 117\, Γκάζι\, πλησίον Στ. Μετρό Κεραμεικός.\nΤηλ: 2103416706 \nO Marcus Fuereder\, γνωστός σε όλους μας ως Parov Stelar\, είναι ο βασιλιάς του Electro Swing. Το 2024\, συμπληρώνει 20 χρόνια ασταμάτητης πορείας γεμάτη μεγάλα hits! “Catgroove”\, “Booty Swing”\, “All Night”\, “The Princess”\, “Chambermaid Swing”\, “The Sun”\, ‘’The Burning Spider”\, “Mojo Radio Gang”\, “Voodoo Sonic”\, “Matilda” και πολλά ακόμα.  \nΗ μεγάλη του δύναμη παραμένουν οι συναυλίες! Μαγεύει το κοινό με τη μοναδική μίξη jazz\, house\, swing και electro που ο ίδιος καθιέρωσε και έκανε γνωστή σε ολόκληρο τον κόσμο. Η σκηνική παρουσία της 7μελούς μπάντας του\, οι μελωδίες και τα beats\, πυροδοτούν κάθε φορά το κέφι και μεταμορφώνουν κάθε χώρο και φεστιβάλ σε μια μεγάλη γιορτή. \nΤα συνεχόμενα sold-out σε εμβληματικούς χώρους\, όπως το Play Station Theater στη Νέα Υόρκη\, το Alexandra Palace στο Λονδίνο και το Zenith στο Παρίσι\, αλλά και η παρουσία του σε σπουδαία φεστιβάλ\, όπως τα Coachella\, Glastonbury\, Lollapalooza και φυσικά το δικό μας Release Athens τον έχουν καταστήσει ως έναν από τους σημαντικότερους και πλέον περιζήτητους καλλιτέχνες της dance σκηνής\, παγκοσμίως. \nΟι αριθμοί\, άλλωστε\, μιλούν από μόνοι τους. Πάνω από 500 εκατομμύρια views στο YouTube\, περισσότεροι από 3 εκατομμύρια μηνιαίοι ακροατές στο Spotify\, τραγούδια του έχουν ακουστεί σε πάνω από 700 συλλογές\, καθώς και σε TV shows\, σειρές\, ταινίες και διαφημίσεις. \nΟι δύο βραδιές του Δεκεμβρίου θα αποτελέσουν μια αξέχαστη εμπειρία με τον Parov Stelar και τη μπάντα του\, σε κλειστό χώρο μετά από πολλά χρόνια\, να υπόσχονται το χορευτικό ξέσπασμα και την ευφορία που όλοι έχουμε ανάγκη! \n \n\n \n \nFollow Parov Stelar: \nOfficial website \nFacebook \nYouTube \nInstagram \nTwitter \nFollow Floyd: \nOfficial Website \nFacebook \nInstagram \nTikTok \nYouTube
URL:https://www.floyd.gr/event/parov-stelar/
LOCATION:FLOYD\, Pireos 117\, Athens\, Greece
CATEGORIES:Featured,Συναύλιες
ATTACH;FMTTYPE=image/jpeg:https://www.floyd.gr/wp-content/uploads/2023/10/01-3.jpg
END:VEVENT
BEGIN:VEVENT
DTSTART;TZID=UTC:20231225T210000
DTEND;TZID=UTC:20231225T233000
DTSTAMP:20260420T011624
CREATED:20231204T143056Z
LAST-MODIFIED:20231212T155842Z
UID:8091-1703538000-1703547000@www.floyd.gr
SUMMARY:Trashformers X-MAS Edition
DESCRIPTION:To XMAS edition θα γίνει τη Δευτέρα 25/12/23  στο νέο χώρο του FLOYD Live Music Venue! \n> Πειραιώς 117\, Γκάζι 11854\, Aθήνα\nΚΡΑΤΗΣΕΙΣ +30 210 3450817\ndoors open at 22:36     early-bird tickets 8 \n«Πριν από χιλιάδες χρόνια η ανθρωπότητα είχε βρει το νόημα της ζωής\, την πηγή της νεότητας\, το μυστικό του σύμπαντος… δεν ήταν άλλο από το συναίσθημα που έχεις όταν βιώνεις τη στιγμή… απελευθερωμένα\, γνήσια\, ζωντανά… Ήταν η μυστική ΑΡΧΕΓΟΝΗ ΔΙΑΣΚΕΔΑΣΗ! \nΑυτό όμως παραήταν τέλειο για κρατήσει για πάντα. Με τα χρόνια\, το πανέμορφο συναίσθημα ξεχάστηκε. Τα συστατικά που ήταν αναγκαία για τη δημιουργία και την έκφραση διασκορπίστηκαν σε όλες τις γωνιές της γης. Ολόκληρος ο κόσμος καταδικάστηκε σε μια μακροχρόνια γκρίζα βαρετή εποχή. \nΌμως ξαφνικά\, μετά από τόσα χρόνια\, στη μέση του πουθενά\, κάτω από σορούς άμμου\, ανακαλύφθηκε μια αρχαία προφητεία που λέει ότι θα έρθει η μαγική στιγμή που θα ξαναζωντανέψουμε αυτό που έχουμε χάσει! » \n********* \nΤο show είναι ολόφρεσκο\, αλλά τα απαραίτητα στοιχεία-συστατικά για το οπτικοακουστικό υπερθέαμα των Trashformers είναι γνωστά! \n> Pre party (για να μπούμε σε mood)\n> Ultra διασκεδαστικό show !\n> Dj set και VJ set (για να λιώσουμε τις σόλες χορεύοντας)\n> Secret guest (πάντα περνάμε καλά με τους φίλους μας)\n> Δόσεις τρέλας! (παντού και πάντα <3)\n> After party (για όσους αντέχουν!) \nΧριστούγεννα = Trashformers \ninfo/reservations +30 210 3450817 \nonline ticketing at more.com by viva
URL:https://www.floyd.gr/event/trashformers-x-mas-edition/
LOCATION:FLOYD\, Pireos 117\, Athens\, Greece
CATEGORIES:Featured,Συναύλιες
ATTACH;FMTTYPE=image/jpeg:https://www.floyd.gr/wp-content/uploads/2023/12/trash-floyd-banner.jpg
END:VEVENT
BEGIN:VEVENT
DTSTART;TZID=UTC:20231229T200000
DTEND;TZID=UTC:20231229T233000
DTSTAMP:20260420T011624
CREATED:20231127T095353Z
LAST-MODIFIED:20231212T155147Z
UID:8077-1703880000-1703892600@www.floyd.gr
SUMMARY:1000MODS
DESCRIPTION:Οι 1000mods κλείνουν με καταιγιστικό τρόπο τη μουσική χρονιά\, με ένα μεγάλο live την Παρασκευή 29 Δεκεμβρίου\, στο Floyd\, το νέο venue της πόλης. Η κορυφαία heavy rock μπάντα δίνει την τελευταία της συναυλία για το 2023\, ολοκληρώνοντας την επιτυχημένη παγκόσμια περιοδεία της στην Αθήνα και σε έναν αγαπημένο της χώρο\, ο οποίος είναι πλέον ολοκληρωτικά ανακατασκευασμένος και έτοιμος να αντέξει την ηχητική “επίθεση” που μας περιμένει! Tη βραδιά θα ανοίξουν οι Mystic Tension. \nΗ προπώληση ξεκινάει άμεσα προς 15 ευρώ και για περιορισμένο αριθμό εισιτηρίων. Μετά την εξάντλησή τους θα συνεχιστεί στα 17 ευρώ. Στο ταμείο η τιμή θα είναι 20 ευρώ. \nΔιάθεση εισιτηρίων: \n• Τηλεφωνικά στο 2117700000 \n• Online www.more.com / www.floyd.gr \n• Φυσικά σημεία: Καταστήματα Νova\, Public\, Ευριπίδης\, Yoleni’s\, Viva Spot Τεχνόπολης και Supervan Records (Χαρ. Τρικούπη 2\, εντός στοάς) \n \n\n \nΞεκίνησαν στα τέλη των 00s\, με αφετηρία το Χιλιομόδι Κορινθίας\, και έκτοτε ο δρόμος έγινε το δεύτερο σπίτι τους. Με κινητήρια δύναμη μερικούς πραγματικά σπουδαίους δίσκους\, όπως το εμβληματικό ντεμπούτο\, “Super Van Vacation” (2011)\, το “Vultures” (2014) και το “Repeated Exposure To…” (2016)\, οι 1000mods έθεσαν τα δικά τους standards στο stoner rock κύμα που παρέσυρε τα πάντα εκείνη την εποχή\, αποκτώντας φανατικούς φίλους τόσο στην Ελλάδα όσο και το εξωτερικό. \nΤο ”Youth of Dissent” (2020) είναι το\, μέχρι στιγμής\, πιο πρόσφατο album τους. Μια δική τους προσέγγιση στα 90s\, με έναν ήχο που παραμένει χαρακτηριστικός και συνάμα εξελίσσεται\, αυτή τη φορά σε συνεργασία με τον Matt Bayles του οποίου το βιογραφικό περιλαμβάνει δουλειές με ονόματα όπως οι Soundgarden\, οι Pearl Jam και οι Mastodon. \nΕκεί\, όμως\, που οι 1000mods λειτουργούν καλύτερα είναι πάνω στη σκηνή διότι είναι αυτό που αγαπούν να κάνουν περισσότερο από οτιδήποτε άλλο. Την άνοιξη του 2022\, επέστρεψαν δυναμικά μετά το δυσάρεστο διάστημα της πανδημίας. Ξεκίνησαν τη διαδρομή τους από το Desertfest του Λονδίνου και στη συνέχεια\, πολύ απλά\, ξέχασαν να σταματήσουν. \n“Από εκείνη τη στιγμή δώσαμε 165 συναυλίες\, οδηγήσαμε πάνω από 100.000 χλμ (δηλαδή σχεδόν 3 φορές την περίμετρο της γης)\, πήραμε 41 πτήσεις (ευτυχώς\, μας έχασαν τα όργανα μόνο μια φορά)\, ακυρώσαμε δύο φορές το αυστραλιανό μας tour και δημιουργήσαμε εκατοντάδες αναμνήσεις και εμπειρίες.” \nΦτάνοντας στο τέλος της χρονιάς και λίγο πριν μπουν στο στούντιο για την ηχογράφηση του πέμπτου δίσκου τους\, αποφάσισαν να κλείσουν αυτόν τον μεγάλο κύκλο γιορτάζοντας με τους φίλους τους στην Αθήνα\, σε έναν από τους πιο αγαπημένους τους χώρους – που επέστρεψε\, ριζικά ανανεωμένος\, υπό νέα διεύθυνση. \nΟι Mystic Tension θα είναι το opening act σε αυτή τη μεγάλη βραδιά. Έρχονται από τη Χαλκίδα και το εξαιρετικό τους φετινό ντεμπούτο είναι δυναμικό\, γεμάτο rock’n’roll ενέργεια\, όπως άλλωστε και κάθε ζωντανή τους εμφάνιση. \nFollow 1000mods \nOfficial  | Bandcamp | Facebook | Youtube | Instagram \nFollow Mystic Tension \nFacebook | Spotify  | Instagram \nFloyd live music venue: Πειραιώς 117\, Γκάζι\, Αθήνα\, πλησίον του Στ. Μετρό Κεραμεικός. \nΤηλ: 2103416706 \nFollow Floyd \nOfficial Website | Facebook | Instagram | TikTok | YouTube 
URL:https://www.floyd.gr/event/1000mods/
LOCATION:FLOYD\, Pireos 117\, Athens\, Greece
CATEGORIES:Featured,Συναύλιες
ATTACH;FMTTYPE=image/jpeg:https://www.floyd.gr/wp-content/uploads/2023/11/web-highres-48-scaled.jpg
END:VEVENT
END:VCALENDAR