BEGIN:VCALENDAR
VERSION:2.0
PRODID:-//Floyd Live Music Venue - ECPv6.15.17.1//NONSGML v1.0//EN
CALSCALE:GREGORIAN
METHOD:PUBLISH
X-ORIGINAL-URL:https://www.floyd.gr
X-WR-CALDESC:Events for Floyd Live Music Venue
REFRESH-INTERVAL;VALUE=DURATION:PT1H
X-Robots-Tag:noindex
X-PUBLISHED-TTL:PT1H
BEGIN:VTIMEZONE
TZID:UTC
BEGIN:STANDARD
TZOFFSETFROM:+0000
TZOFFSETTO:+0000
TZNAME:UTC
DTSTART:20230101T000000
END:STANDARD
END:VTIMEZONE
BEGIN:VEVENT
DTSTART;TZID=UTC:20240406T200000
DTEND;TZID=UTC:20240406T233000
DTSTAMP:20260419T210556
CREATED:20230429T171053Z
LAST-MODIFIED:20240402T080713Z
UID:7723-1712433600-1712446200@www.floyd.gr
SUMMARY:EMPEROR
DESCRIPTION:Οι Νορβηγοί black metal θρύλοι Emperor επιστρέφουν στην Ελλάδα μετά από 27 χρόνια!\n\nTο πρόγραμμα:\n20:00 – Πόρτες\n20:45 – Lucifer’s Child\n22:00 – Emperor\n\n* Τα εισιτήρια κοστίζουν 38€ στην πρώτη φάση της προπώλησης.\nΣτην δεύτερη φάση\, η προπώληση θα διαμορφωθεί στα 40€. \n\nΓια κάποιους οι Emperor είναι συνώνυμοι του ακραίου ήχου της Σκανδιναβικής χερσονήσου\, για άλλους το επιδραστικότερο σχήμα που γέννησε η Νορβηγική μαυρομεταλλική σκηνή. Μία σκηνή την οποία οι ίδιοι άνδρωσαν\, με συνοδοιπόρους τους επίσης εμβληματικούς Mayhem\, Enslaved\, Darkthrone\, Immortal\, Satyricon και Arcturus\, μεταξύ άλλων.\n\nΉταν Φεβρουάριος του 1994\, όταν το ντεμπούτο των Emperor “In The Nightside Eclipse” έσκασε σαν κεραυνός εν αιθρία\, αφήνοντας το αποτύπωμά του ως ένα album-σταθμός της παγκόσμιας black metal σκηνής και αλλάζοντας το παιχνίδι του ήχου αυτού\, με άκρως διαχρονικά τραγούδια όπως τα “I Am the Black Wizards” και “Inno a Satana”. Αρκεί μια ματιά στο εξώφυλλο του δίσκου\, που παντρεύει την μυθολογία του J.R.R. Tolkien και μίας εικονογραφικής απόδοσης του Minas Morgul από τον Άρχοντα Των Δαχτυλιδιών\, με την Χριστιανική παράδοση και πιο συγκεκριμένα έναν από τους 4 καβαλάρηδες της Αποκαλύψεως\, κατά την απεικόνιση του Γάλλου σχεδιαστή του 19ου αιώνα Gustave Doré. Εδώ οι Emperor δίνουν τις νόρμες του είδους και όλων των υποειδών του\, απλώνοντας τα σκοτεινά πλοκάμια τους ακόμη και έξω από αυτό. Ήταν μόνο η αρχή. \n\n\nΤον Ιούλιο του 1997\, το “Anthems To The Welkin At Dusk” παντρεύει την epically sophisticated κληρονομιά των προπατόρων Celtic Frost και Bathory\, με την οργανοπαικτική και συνθετική εξέλιξη του σχήματος\, εισάγοντας με θράσος την prog προσέγγιση στον black metal ήχο. Οι Emperor κάθονται στον θρόνο των πλέον όχι μεγάλων\, μα τεράστιων επιδραστικών. Η κιθαριστική πολυπλοκότητα του διδύμου Samoth – Ihsahn κόβει και οι περιπλοκότερες του παρελθόντος synthesizer performances του δεύτερου ράβουν\, ενώ την εμφάνισή τους κάνουν τα πρώτα καθαρά φωνητικά\, συντελώντας σε ένα επικά επικό (sic) αποτέλεσμα που δεν αφήνει περιθώρια αμφισβήτησης. Οι πρώτες χρυσές σελίδες έχουν ήδη γραφτεί. \n\nΑν και δίχασε τους fans την περίοδο της κυκλοφορίας του\, το “IX Equilibrium” του 1999 ήρθε σε μία εποχή που οι σταθερές του είδους άλλαζαν. Πιστοί στους κανόνες που οι ίδιοι έθεσαν για την εξελικτική τους πορεία\, εδώ οι Emperor ηχούν πιο συμφωνικοί και πιο υπερηχητικοί ταυτόχρονα\, με την δικαίωση να έρχεται χρόνια μετά\, και το τρίτο σε σειρά πλήρες album τους να θεωρείται σήμερα ένα ακόμη timeless classic.\nΣε μία παράφραση του γνωστού ρητού\, αξίζει για το “Prometheus: The Discipline of Fire & Demise” να πούμε πως “Η ιστορία γράφεται από τους τολμηρούς”. Το τέταρτο σε σειρά δισκογραφικό δημιούργημά των Νορβηγών φέρει μία αμίμητα μοναδική ηχητική σφραγίδα. Ο Ihsahn στρογγυλοκάθεται στο τιμόνι της σύνθεσης και εν γένει δημιουργίας και γεννά εδώ τις πιο εγκεφαλικές\, prog-thinking και intellectual συνθέσεις του σχήματος\, ως ένα σπάνια πομπώδες κύκνειο άσμα\, που φέρει όλα τα χαρακτηριστικά του grand finale που άξιζε στους σπουδαίότερους των σπουδαίων\, Emperor.\n\nΣτο τρίτο σε σειρά και μακροσκελέστερο συναυλιακό τους reunion\, έχοντας πλέον εμφανιστεί ζωντανά ως headliners στα μεγαλύτερα festivals σκληρού και ακραίου ήχου\, οι Emperor ξεχύνονται ξανά στις σκηνές ανά τον κόσμο\, για one-off shows\, την άνοιξη του 2024. Με αυτή την αφορμή\, επιστρέφουν στην χώρα μας\, 27 ολόκληρα χρόνια μετά\, με μία best-of setlist\, σε μία μοναδική ζωντανή εμφάνιση\, που ήδη προβλέπεται θρυλική και που θα λάβει χώρα στο νεοσύστατο Floyd Live Music Venue της Αθήνας. \n\n\nΤην συναυλία θα ανοίξουν οι δικοί μας Lucifer’s Child\, που τα τελευταία χρόνια έχουν πραγματοποιήσει μία εντυπωσιακή είσοδο στα πανευρωπαϊκά black metal δρώμενα\, με δύο εξαιρετικές full length κυκλοφορίες\, το “The Wiccan” του 2015 και το “The Order” του 2018. Έχουν επίσης εμφανιστεί ζωντανά σε κάποια από τα σπουδαιότερα metal festivals της Ευρώπης\, αποτελώντας τη στιγμή που μιλάμε τους μάλλον πιο υποσχόμενους\, ανερχόμενους εκπροσώπους του είδους για την χώρα μας. Αναμφίβολα μία επιλογή που θα ζεστάνει με τον καλύτερο δυνατό τρόπο την σκηνή\, πριν την πολυαναμενόμενη έλευση των Νορβηγών θεών. \nΕισιτήρια προπωλούνται μέσω του viva.gr και του δικτύου καταστημάτων του (Media Markt\, Public\, βενζινάδικα Eko\, Shell\, BP κ.α.).\n*** Οι μεταπωλητές χρεώνουν προμήθεια βάσει των τιμοκαταλόγων τους.\nΣΥΝΔΕΣΜΟΣ ΗΛΕΚΤΡΟΝΙΚΗΣ ΠΡΟΠΩΛΗΣΗΣ:\nhttps://www.more.com/music/emperor/\nΦΥΣΙΚΑ ΣΗΜΕΙΑ ΠΡΟΠΩΛΗΣΗΣ:\nΑΘΗΝΑ\n• Le Disque Noir (Θεμιστοκλέους 29\, Εξάρχεια)\n• Monstervile (Αγίας Ειρήνης 13\, Μοναστηράκι)\nΘΕΣΣΑΛΟΝΙΚΗ\n• Classic cafe-bar Διωροφον (Κερασούντος 81\, Καλαμαριά)\n\nΠαραγωγή: Como Esta Events\nΕπικοινωνία: comoestaevents@gmail.com\nΔημοσιογραφική επικοινωνία: press@3plab.gr
URL:https://www.floyd.gr/event/emperor/
LOCATION:FLOYD\, Pireos 117\, Athens\, Greece
CATEGORIES:Featured,Συναύλιες
ATTACH;FMTTYPE=image/jpeg:https://www.floyd.gr/wp-content/uploads/2023/04/emperor.jpeg
END:VEVENT
BEGIN:VEVENT
DTSTART;TZID=UTC:20240413T203000
DTEND;TZID=UTC:20240413T233000
DTSTAMP:20260419T210556
CREATED:20240220T084841Z
LAST-MODIFIED:20240410T171444Z
UID:8255-1713040200-1713051000@www.floyd.gr
SUMMARY:Παύλος Παυλίδης
DESCRIPTION:Ο Παύλος Παυλίδης\, μαζί με μια ανανεωμένη ομάδα σπουδαίων μουσικών\, ανεβαίνει για πρώτη φορά στη σκηνή του Floyd Live Venue\, το Σάββατο 13 Απριλίου\, σε μια διαφορετική συναυλιακή εμπειρία από εκείνες που έχουμε συνηθίσει\, με τη χρήση visuals να μας μεταφέρει σε ένα πρωτότυπο οπτικοακουστικό σύμπαν. \nΟι πόρτες ανοίγουν στις 20:00. O Παύλος Παυλίδης θα είναι στη σκηνή στις 22:00. \nΑυτή η μοναδική βραδιά θα περιλαμβάνει τραγούδια απ’ όλη τη μουσική πορεία του Παύλου Παυλίδη\, μαζί με ολοκαίνουργιο υλικό που θα κυκλοφορήσει σύντομα. Ταυτόχρονα\, η συγκεκριμένη συναυλία σηματοδοτεί τη νέα συνάντησή του με τον σκηνοθέτη και visual artist\, Βασίλη Κεχαγιά\, ο οποίος στη δεκαετία του ’90 δημιούργησε τα video clips σε τραγούδια των Ξύλινων Σπαθιών\, όπως τα “Ένα παράξενο τραγούδι”\, “Αρχίζω και θυμάμαι”\, “Πάρε με μαζί σου”\, “Grand Hotel”. \nΧρησιμοποιώντας κομμάτια απ’ την παγανιστική λαογραφία της Βόρειας Ελλάδας και ενσωματώνοντάς τα σε μια pop αισθητική\, ο Βασίλης Κεχαγιάς συνοδεύει το καινούργιο και επαναπροσεγγίζει το παλιότερο υλικό του Παυλίδη και μ’ αυτόν τον τρόπο οι δυο καλλιτέχνες μας οδηγούν σε μια εκστατική electro-punk γιορτή. \nΜια βραδιά που δεν πρέπει να χάσει κανείς! \nΠαίζουν οι μουσικοί: \nΑλέκος Γεωργουλόπουλος – κιθάρα\, synthesizers\, φωνητικά \nΑλέξης Σταυρόπουλος – τύμπανα\, sample pads \nΘανάσης Τζίνγκοβιτς – μπάσο\, κιθάρα\, φωνητικά \nAki Rei – πλήκτρα\, κιθάρα\, φωνητικά \nΗ προπώληση ξεκινάει άμεσα προς 15€ και για περιορισμένο αριθμό εισιτηρίων. \nΜετά την εξάντλησή τους θα συνεχιστεί στα 17€. \n \n\n \nΔιάθεση εισιτηρίων: \n\nΤηλεφωνικά στο 2117700000\nOnline more.com / Floyd.gr\nΦυσικά σημεία: Καταστήματα Νova\, Public\, Ευριπίδης\, Yoleni’s\, Viva Spot Τεχνόπολης.\n\nFloyd live music venue: Πειραιώς 117\, Γκάζι\, Αθήνα\, πλησίον του Στ. Μετρό Κεραμεικός / Τηλ. 210 3416706 \nFollow Floyd\nOfficial Website | Facebook  |  Instagram |  TikTok   | YouTube
URL:https://www.floyd.gr/event/pavlidis/
LOCATION:FLOYD\, Pireos 117\, Athens\, Greece
CATEGORIES:Featured,Συναύλιες
ATTACH;FMTTYPE=image/jpeg:https://www.floyd.gr/wp-content/uploads/2024/02/slider-o2.jpg
END:VEVENT
BEGIN:VEVENT
DTSTART;TZID=UTC:20240427T203000
DTEND;TZID=UTC:20240427T233000
DTSTAMP:20260419T210556
CREATED:20240215T151959Z
LAST-MODIFIED:20240427T142818Z
UID:8241-1714249800-1714260600@www.floyd.gr
SUMMARY:Sivert Hoyem
DESCRIPTION:Ο ΞΕΧΩΡΙΣΤΟΣ SIVERT HOYEM στην ΑΘΗΝΑ! \nΟ Sivert Hoyem\, αυτός ο μοναδικός «δικός μας» καλλιτέχνης\, έρχεται ξανά στην αγαπημένη του Ελλάδα για να μας προσφέρει μία βραδιά που υπόσχεται να είναι η πιο προσωπική\, η πιο οικεία\, η πιο ζεστή των τελευταίων ετών. \n\n\n\n\n\nΤο πρόγραμμα\n\n\nDoors open: 20:30\nSivert on stage: 22:00\n\nEισιτήρια θα υπάρχουν στο ταμείο του Floyd από τις 20:00\n\n\n\n\nFor one night only\, μόνο για μία βραδιά\, ο Hoyem θα βρεθεί στην Αθήνα\, στο Floyd\, το Σάββατο 27 Απριλίου\, για ένα σπάνιο club show που θα συγκινήσει τους πιστούς θαυμαστές του. \nΜετά την αξέχαστη εμφάνισή του στη σκηνή του Ηρωδείου το 2016 και αφού τα προηγούμενα χρόνια χάρισε μαζί με τους Madrugada\, ανεπανάληπτες συναυλιακές στιγμές σε δεκάδες χιλιάδες θεατές στο Tae Kwon Do\, στο Καλλιμάρμαρο και σε μεγάλα φεστιβάλ της χώρας\, θα βρεθεί\, μαζί με την μπάντα του\, στην Αθήνα για να δώσει ένα club show μετά από 8 ολόκληρα χρόνια – τόσα έχουν περάσει από την τελευταία του εμφάνιση τον Απρίλιο του ‘16 στο Piraeus 117 Academy! Μία ξεχωριστή επανασύνδεση με τους λάτρεις της μουσικής του. Μια ευκαιρία για όσους τον αγαπούν να μοιραστούν μια διαφορετική μουσική μυσταγωγία. \nΜαζί του φέρνει τα τραγούδια που οι φίλοι του έχουν αγαπήσει όλα αυτά τα χρόνια\, Sleepwalking Man\, Theaving Heart\, Moon Landing\, Give it a Whirl\, κομμάτια όπως τα Aim For The Heart\, Two Green Feathers από τον τελευταίο του δίσκο\, On an island\, που κυκλοφόρησε στα τέλη του Ιανουαρίου και φυσικά πολλά τραγούδια των Madrugada. \nΟ Sivert Høyem είναι ένας σπάνιος καλλιτέχνης\, βαθιά ανθρώπινος και ευαίσθητος. Μπορεί να έρχεται από τον παγωμένο Βορρά αλλά η θέρμη της φωνής και της μουσικής του λιώνει και τις πιο κρύες καρδιές! \nΘα είναι μαζί μας για να μας ζεστάνει το Σάββατο 27 Απριλίου στο Floyd της οδού Πειραιώς. \n \nΑκολουθήστε τον Sivert Høyem \nhttps://siverthoyem.com/ \nhttps://www.facebook.com/sivert.hoyem/ \nhttps://www.instagram.com/siverthoyem/?hl=el \nhttps://www.youtube.com/@Siverthoyemno \nhttps://twitter.com/SivertHoyem \nΟι φωτογραφίες είναι του Andreas Hornoff \nΠληροφορίες Εισιτηρίων \nΗ προπώληση εισιτηρίων ξεκινά άμεσα \nΤιμές Εισιτηρίων \nΓενική είσοδος: 45 ευρώ \nΣημεία Προπώλησης \nΗλεκτρονικά: https://www.more.com/music/sivert-hoyem/ \nτηλεφωνικά 211 7700 000\nκαι στα φυσικά σημεία \nNova | Public | Ευριπίδης | Viva Spot Τεχνόπολης \nΔίκτυο Public \nPublic online: http://tickets.public.gr/ \nKαταστήματα Public \nhttps://www.public.gr/templates/publicStorelocator.jsp \nFloyd \nLive Music Venue \nΠειραιώς 117\, Γκάζι 11854\, Aθήνα \n210 3416706 \ninfo@floyd.gr
URL:https://www.floyd.gr/event/sivert-hoyem/
LOCATION:FLOYD\, Pireos 117\, Athens\, Greece
CATEGORIES:Featured,Συναύλιες
ATTACH;FMTTYPE=image/jpeg:https://www.floyd.gr/wp-content/uploads/2024/02/slider-sivert.jpg
END:VEVENT
END:VCALENDAR