BEGIN:VCALENDAR
VERSION:2.0
PRODID:-//Floyd Live Music Venue - ECPv6.15.17.1//NONSGML v1.0//EN
CALSCALE:GREGORIAN
METHOD:PUBLISH
X-WR-CALNAME:Floyd Live Music Venue
X-ORIGINAL-URL:https://www.floyd.gr
X-WR-CALDESC:Events for Floyd Live Music Venue
REFRESH-INTERVAL;VALUE=DURATION:PT1H
X-Robots-Tag:noindex
X-PUBLISHED-TTL:PT1H
BEGIN:VTIMEZONE
TZID:UTC
BEGIN:STANDARD
TZOFFSETFROM:+0000
TZOFFSETTO:+0000
TZNAME:UTC
DTSTART:20230101T000000
END:STANDARD
END:VTIMEZONE
BEGIN:VEVENT
DTSTART;TZID=UTC:20240912T200000
DTEND;TZID=UTC:20240912T233000
DTSTAMP:20260419T150235
CREATED:20240708T084635Z
LAST-MODIFIED:20240910T100827Z
UID:8518-1726171200-1726183800@www.floyd.gr
SUMMARY:Curtis Harding
DESCRIPTION:O Curtis Harding έρχεται την Πέμπτη 12 Σεπτεμβρίου\, στο Floyd Live Music Venue\, για ένα πολύ ξεχωριστό live show. Μια από τις σπουδαιότερες μαύρες φωνές των τελευταίων χρόνων σε μια βραδιά όπου η soul\, η R&B και το hip-hop συναντούν ιδανικά το rock και την ψυχεδέλεια! \n20:00 Πόρτες / 22:00 Curtis Harding on stage \n \n\n \nΔιάθεση εισιτηρίων: \n\nΤηλεφωνικά στο 2117700000\nOnline more.com / Floyd.gr\nΦυσικά σημεία: Καταστήματα Νova\, Public\, Ευριπίδης\, Yoleni’s\, Viva SpotΤεχνόπολης.\n\nΟ Curtis Harding είναι μέλος μιας άτυπης αλλά συναρπαστικής νέας γενιάς καλλιτεχνών\, υπεύθυνων για την αναγέννηση της soul. Άμεσος και αναζωογονητικός\, με σκηνική παρουσία επιβλητική και εθιστική\, ο γεννημένος στο Μίσιγκαν singer-songwriter έχει καταφέρει με μόλις τρεις δίσκους να γευτεί την απόλυτη αποθέωση\, εξερευνώντας το παρελθόν για να δημιουργήσει ένα δικό του παρόν\, με βάση τη soulαλλά “αγκαλιάζοντας” πολλά ακόμα είδη. \nΗ ιστορία του είναι πλούσια και ιδιαίτερη\, καθώς ξεκίνησε από μικρός τραγουδώντας σε gospel χορωδίες όπου η μητέρα του ήταν μέλος. Στα 00s έκανε δεύτερα φωνητικά στον CeeLo Green\, υπήρξε ενεργό μέλος της hip-hop σκηνής της Ατλάντα ενώ το 2009 σχημάτισε μια R&B / garage-rock μπάντα\, τους Night Sun in Atlanta\, μαζί με μέλη των Black Lips. \n \nΤο 2014\, ήρθε το ντεμπούτο του\, “Soul Power”\, με τις κριτικές\, κυρίως στην Ευρώπη\, να ανακαλύπτουν μια νέα δύναμη. Το 2017\, το “Face Your Fear” τον οδηγεί σε νέα απολαυστικά ύψη και σε περιοδείες μαζί με Jack White και Lenny Kravitz και συμμετοχή σε όλα τα μεγάλα φεστιβάλ. \nΣτα τέλη του 2021\, έρχεται το “If Words Were Flowers”\, ακόμα ένας σπουδαίος δίσκος\, ο πιο συναρπαστικός της έως τώρα πορείας του. \nΟ ίδιος λέει: “η μητέρα μου έλεγε πάντα\, να μου προσφέρεις λουλούδια όσο είμαι εδώ. Αυτό παραμένει μέσα μου. Να δίνω αγάπη και εκτίμηση σε ανθρώπους που αγαπώ πριν είναι αργά. Αυτό είναι και τα τραγούδια μου\, προσφέρω λουλούδια προς όλους”. \n \nFloyd live music venue: Πειραιώς 117\, Γκάζι\, Αθήνα\, πλησίον του Στ. Μετρό Κεραμεικός / Τηλ. 210 3416706 \nFollow Curtis Harding \nOfficial Website / Instagram  /  Facebook  /  Spotify  /  YouTube \nFollow Floyd live music venue \nOfficial Website | Facebook  |  Instagram |  TikTok   | YouTube
URL:https://www.floyd.gr/event/curtis-harding/
LOCATION:FLOYD\, Pireos 117\, Athens\, Greece
CATEGORIES:Featured,Συναύλιες
ATTACH;FMTTYPE=image/png:https://www.floyd.gr/wp-content/uploads/2024/07/curtis-slider.png
END:VEVENT
BEGIN:VEVENT
DTSTART;TZID=UTC:20240929T080000
DTEND;TZID=UTC:20240929T233000
DTSTAMP:20260419T150235
CREATED:20240514T074331Z
LAST-MODIFIED:20240926T074919Z
UID:8406-1727596800-1727652600@www.floyd.gr
SUMMARY:In Flames
DESCRIPTION:Οι εμβληματικοί In Flames έρχονται στην Αθήνα για ένα μεγάλο live\, την Κυριακή 29 Σεπτεμβρίου\, στο Floyd. Μια από τις σημαντικότερες metal μπάντες των τελευταίων δεκαετιών\, οι Σουηδοί θεωρούνται δίκαια οι προπάτορες της σύγχρονης μελωδικής death metal σκηνής\, παραμένοντας καταιγιστικοί στη σκηνή\, όπως αποδείχτηκε θριαμβευτικά στην εμφάνισή τους στο περσινό Release Athens. \nOι πόρτες θα ανοίξουν στις 20:00 και οι In Flames θα είναι στη σκηνή στις 22:00. \n \n\n \nΔιάθεση εισιτηρίων: \n\nΤηλεφωνικά στο 2117700000\nOnline more.com / Floyd.gr\nΦυσικά σημεία: Καταστήματα Νova\, Public\, Ευριπίδης\, Yoleni’s\, Viva Spot Τεχνόπολης.\n\nFloyd live music venue: Πειραιώς 117\, Γκάζι\, Αθήνα\, πλησίον του Στ. Μετρό Κεραμεικός / Τηλ. 210 3416706 \nΟι In Flames υπήρξαν καθοριστικοί στην καθιέρωση του melodic death metal αλλά και του metalcore\, χάρις στα μοναδικά “πελώρια” riffs και τις εντυπωσιακές συνθέσεις τους\, ξεκινώντας ως ένα underground σχήμα για να μετατραπούν στη συνέχεια σε πρωτοπόρους της metal σκηνής που δεν σταματούν να εξελίσσουν τον ήχο τους και να πειραματίζονται. \nΑπό τότε που σχηματίστηκαν\, το 1990 στο Gothenburg της Σουηδίας\, το θρυλικό γκρουπ αποτελεί πρότυπο του τι σημαίνει να παραμένεις πιστός στο όραμά σου. Στα 14 albums που έχουν κυκλοφορήσει\, από το ντεμπούτο\, “Lunar Strain” (1994) μέχρι το εξαιρετικό “Foregone” (2023)\, οι In Flames συνεχίζουν να καινοτομούν παρά τις αμέτρητες διακρίσεις που έχουν ήδη κατακτήσει. \nΚυκλοφορίες όπως τα “The Jester Race” (1996)\, “Colony” (1999)\, “Clayman” (2000) και το τολμηρό “Reroute to Remain” (2002)\, είναι μόνο κάποια δείγματα της σπουδαίας δισκογραφίας τους\, τα οποία επιβεβαιώνουν τη θέση τους στην κορυφή τoυ ευρωπαϊκού metal για ένα τόσο μεγάλο χρονικό διάστημα\, ενώ ταυτόχρονα κερδίζουν συνεχώς νέους οπαδούς. \n \nΠαράλληλα\, περιοδεύουν ασταμάτητα\, εμφανιζόμενοι συχνά ως headliners σε μεγάλα φεστιβάλ\, ξεσηκώνοντας το κοινό με τραγούδια-ύμνους σαν τα “I Am Above”\, “Take This Life”\, “CoercedCoexistence”\, “Bullet Ride”\, “Cloud Connected”\, “State of Slow Decay”\, “Alias” και “The Mirror’s Truth”. \nFollow In Flames \nOfficial Website | Facebook  |  Instagram | YouTube \nFollow Floyd \nOfficial Website | Facebook  |  Instagram |  TikTok   | YouTube
URL:https://www.floyd.gr/event/in-flames/
LOCATION:FLOYD\, Pireos 117\, Athens\, Greece
CATEGORIES:Featured,Συναύλιες
ATTACH;FMTTYPE=image/jpeg:https://www.floyd.gr/wp-content/uploads/2024/05/inflames-SLIDER.jpg
END:VEVENT
END:VCALENDAR