BEGIN:VCALENDAR
VERSION:2.0
PRODID:-//Floyd Live Music Venue - ECPv6.15.17.1//NONSGML v1.0//EN
CALSCALE:GREGORIAN
METHOD:PUBLISH
X-WR-CALNAME:Floyd Live Music Venue
X-ORIGINAL-URL:https://www.floyd.gr
X-WR-CALDESC:Events for Floyd Live Music Venue
REFRESH-INTERVAL;VALUE=DURATION:PT1H
X-Robots-Tag:noindex
X-PUBLISHED-TTL:PT1H
BEGIN:VTIMEZONE
TZID:UTC
BEGIN:STANDARD
TZOFFSETFROM:+0000
TZOFFSETTO:+0000
TZNAME:UTC
DTSTART:20220101T000000
END:STANDARD
END:VTIMEZONE
BEGIN:VEVENT
DTSTART;TZID=UTC:20231021T190000
DTEND;TZID=UTC:20231021T190000
DTSTAMP:20260420T044502
CREATED:20231009T153959Z
LAST-MODIFIED:20231010T122428Z
UID:7888-1697914800-1697914800@www.floyd.gr
SUMMARY:ANSER X BUZZ
DESCRIPTION:Το Σάββατο 21 Οκτωβρίου\, Anser και Buzz δίνουν ένα φλογερό τέλος στις καλοκαιρινές τους εμφανίσεις με μία μεγάλη συναυλία στο Floyd Live Venue στο Γκάζι. Μαζί τους στα decks ο Eversor\, ο Dj Marvel και ο Dolos\, ενώ από την σκηνή θα περάσουν αγαπημένοι καλλιτέχνες της ελληνικής hip hop σκηνής. \nΜια συναυλία αφιερωμένη στους φίλους\, στην μουσική\, στην αξία της σχέσης και την ειρωνεία του ότι κάποια στιγμή όλα τελειώνουν. \nΑπό το ” Εκείνο το τίποτα ” στο “Queens” και από “Λεωφόρος Καβάλας” στη “Xαμαρέτου”. \nΚάθε λέξη\, κάθε στίχος\,\nκάθε τετραμετρο και κάθε ρεφρέν…\nόλα βασισμένα σε αληθινές ιστορίες. \nΤην ημέρα της συναυλίας οι πόρτες θα ανοίξουν στις 19:00. Τα πρώτα εισιτήρια κοστίζουν 10€ ενώ η τιμή των επομένων διαμορφώνεται στα 12€. \n«Πάρε δυο φίλους πάρε δυο φίλες ούτε σκοτάδια ούτε μαυρίλες\nΠάμε να βγούμε να κουνηθούμε να χρεωθούμε άντε να δούμε»! \nΜε μια ματιά: \nΣυναυλία: Anser & Buzz\nΗμερομηνία: Σάββατο 21 Οκτωβρίου 2023\nΧώρος: Floyd Live Venue (Πειραιώς 117\, Γκάζι)\nDoors Open: 19:00\nΤιμές εισιτηρίων: Early Bird 10€ | Presale 12€ | Ταμείο 15€\nΠροπώληση εισιτηρίων: https://www.more.com/music/anser-x-buzz/\nΦυσικά σημεία προπώλησης:\n– Potato King (Αγίου Φιλίππου 7\, Αθήνα)\n– Monsterville (Αγίας Ειρήνης 13\, Αθήνα)\n– The Finest Cuts ATH Barbershop (Μιλτιάδου 13-15\, Περιστέρι)\n– Hotbox Hip-Hop Store (Πραξιτέλους 159\, Πειραιάς)\nΣυμπαραγωγή: Action Εστί & Dynasty Group Athens
URL:https://www.floyd.gr/event/anserxbuzz/
LOCATION:FLOYD\, Pireos 117\, Athens\, Greece
CATEGORIES:Featured,Συναύλιες
ATTACH;FMTTYPE=image/jpeg:https://www.floyd.gr/wp-content/uploads/2023/10/Photo-Anser-Buzz-1-e1696940662348.jpg
END:VEVENT
END:VCALENDAR