BEGIN:VCALENDAR
VERSION:2.0
PRODID:-//Floyd Live Music Venue - ECPv6.15.17.1//NONSGML v1.0//EN
CALSCALE:GREGORIAN
METHOD:PUBLISH
X-ORIGINAL-URL:https://www.floyd.gr
X-WR-CALDESC:Events for Floyd Live Music Venue
REFRESH-INTERVAL;VALUE=DURATION:PT1H
X-Robots-Tag:noindex
X-PUBLISHED-TTL:PT1H
BEGIN:VTIMEZONE
TZID:UTC
BEGIN:STANDARD
TZOFFSETFROM:+0000
TZOFFSETTO:+0000
TZNAME:UTC
DTSTART:20220101T000000
END:STANDARD
END:VTIMEZONE
BEGIN:VEVENT
DTSTART;TZID=UTC:20231209T200000
DTEND;TZID=UTC:20231209T233000
DTSTAMP:20260420T022931
CREATED:20231011T082945Z
LAST-MODIFIED:20231102T162705Z
UID:7897-1702152000-1702164600@www.floyd.gr
SUMMARY:BLACK COUNTRY\, NEW ROAD
DESCRIPTION:Το Σάββατο 9 Δεκεμβρίου\, το Floyd\, το νέο μεγάλο venue της πόλης\, υποδέχεται τους μαγικούς Black Country\, New Road\, την πιο πολυσυζητημένη νέα μπάντα των τελευταίων χρόνων!  \nΗ εξαμελής παρέα από το Λονδίνο έρχεται για πρώτη φορά στη χώρα μας\, για να αποδείξει επί σκηνής γιατί κατόρθωσε\, μέσα σε λίγο καιρό\, να κατακτήσει την καρδιά και το νου κάθε μουσικόφιλου\, κερδίζοντας τον χαρακτηρισμό της “καλύτερης indie band που ακούσαμε ποτέ.” \nΗ προπώληση ξεκινά άμεσα\, προς 27 ευρώ και για περιορισμένο αριθμό εισιτηρίων. Οι επόμενες φάσεις θα ανακοινωθούν στην πορεία. \nΔιάθεση εισιτηρίων: \n• Τηλεφωνικά στο 2117700000\n• Online www.more.com / www.floyd.gr\n• Φυσικά σημεία: Καταστήματα Νova\, Public\, Ευριπίδης\, Yoleni’s και Viva Spot Τεχνόπολης \n \n\n \nFloyd live music venue: Πειραιώς 117\, Γκάζι\, Αθήνα\, πλησίον του Στ. Μετρό Κεραμεικός.\nΤηλ: 210 3450817 \nΟι Black Country\, New Road τάραξαν τα\, συχνά λιμνάζοντα\, νερά της παγκόσμιας μουσικής σκηνής από την πρώτη στιγμή που εμφανίστηκαν σε αυτήν. Ο ήχος τους είναι αδύνατο να περιγραφεί. Όλα τα μέλη της μπάντας\, λίγο πάνω από τα 20 τους χρόνια\, συνεισφέρουν στη δημιουργία ενός μοναδικού μίγματος που “ακροβατεί” ανάμεσα σε post-rock ήχους\, πολύπλοκες ενορχηστρώσεις\, πιανιστικές ενδοσκοπήσεις\, την jazz\, την chamber pop. Aπό τον μινιμαλισμό έως τα ευφορικά ξεσπάσματα\, πολλές φορές μέσα στο ίδιο τραγούδι. \nΤο ντεμπούτο τους\, “For the First Time”\, τον Φεβρουάριο του 2021\, κυριολεκτικά αγνόησε κάθε φόρμα\, ενώνοντας είδη και κάνοντας τους πάντες να τους συγκρίνουν με τους… πάντες. Από Slint\, Arcade Fire και Talking Heads σε Ornette Coleman έως και Klezmer\, την παραδοσιακή εβραϊκή μουσική! \nΈναν χρόνο μετά\, ξανά τον Φεβρουάριο\, ο δεύτερος δίσκος τους\, “Αnts from Up There”\, έγινε και πάλι δεκτός με διθυράμβους! Η απόφαση του τραγουδιστή τους  Isaac Wood να αποσυρθεί\, αμέσως μετά\, για προσωπικούς λόγους φάνηκε αρχικά να σοκάρει την οικογένειά των BC\,NR. Ωστόσο\, δεν ήταν παρά η αφορμή για μια αναπάντεχη κάθαρση που μόνο η μουσική τους θα μπορούσε να τους προσφέρει. \nΤο “Live at Bush Hall” (ναι\, ξανά τον  Φεβρουάριο του 2023) είναι μια συγκλονιστική κατάθεση μιας μπάντας έξι φίλων\, που στήριξαν τον έβδομο στην απόφασή του\, ένα έπος συναισθημάτων με τους  Tyler Hyde\, Lewis Evans και Mary Kershaw να αναλαμβάνουν\, πλέον\, τα φωνητικά. \nΗχογραφημένο ζωντανά\, αλλά στην ουσία τρίτος επίσημος δίσκος τους\, καθώς περιέχει αποκλειστικά νέες συνθέσεις και τραγούδια που δεν συμπεριλήφθηκαν στους δύο πρώτους\, είναι πιθανότατα η κορυφαία στιγμή τους. Ένα πραγματικό επίτευγμα μέχρι\, βέβαια\, το επόμενο. \nTo Σάββατο\, 9 Δεκεμβρίου\, είναι η ημερομηνία που οφείλει να σημειώσει κάθε συνειδητοποιημένος μουσικόφιλος\, καθώς είναι λίγες οι φορές που έχουμε την ευκαιρία να παρακολουθήσουμε μία τόσο σημαντική μπάντα τη στιγμή που πρέπει! \nFollow BC\,NR: \nOfficial website\nFacebook\nInstagram\nSpotify\nYouTube\nSoundcloud \nFollow Floyd: \nOfficial Website\nFacebook\nInstagram\nTikTok\nYouTube \n 
URL:https://www.floyd.gr/event/black-country-new-road/
LOCATION:FLOYD\, Pireos 117\, Athens\, Greece
CATEGORIES:Featured,Συναύλιες
ATTACH;FMTTYPE=image/jpeg:https://www.floyd.gr/wp-content/uploads/2023/10/bcnr-slider.jpg
END:VEVENT
END:VCALENDAR