BEGIN:VCALENDAR
VERSION:2.0
PRODID:-//Floyd Live Music Venue - ECPv6.15.17.1//NONSGML v1.0//EN
CALSCALE:GREGORIAN
METHOD:PUBLISH
X-WR-CALNAME:Floyd Live Music Venue
X-ORIGINAL-URL:https://www.floyd.gr
X-WR-CALDESC:Events for Floyd Live Music Venue
REFRESH-INTERVAL;VALUE=DURATION:PT1H
X-Robots-Tag:noindex
X-PUBLISHED-TTL:PT1H
BEGIN:VTIMEZONE
TZID:UTC
BEGIN:STANDARD
TZOFFSETFROM:+0000
TZOFFSETTO:+0000
TZNAME:UTC
DTSTART:20230101T000000
END:STANDARD
END:VTIMEZONE
BEGIN:VEVENT
DTSTART;TZID=UTC:20240224T200000
DTEND;TZID=UTC:20240224T200000
DTSTAMP:20260420T001634
CREATED:20240104T094934Z
LAST-MODIFIED:20240223T181142Z
UID:8191-1708804800-1708804800@www.floyd.gr
SUMMARY:Pan Pan & Years of Youth [SOLD OUT]
DESCRIPTION:Το Floyd υποδέχεται τον Pan Pan\, μαζί με τον Years Of Youth\, το Σάββατο 24 Φεβρουαρίου στη συναυλία που κανείς δεν θέλει να χάσει! Μια βραδιά γεμάτη επίμονα beats\, τραγούδι και χορό\, σε μια μοναδική αλληλεπίδραση ανάμεσα σε καλλιτέχνες και κοινό. \nΘα παρουσιαστεί live\, για πρώτη φορά\, το καινούριο album τους\, “Λύκοι στον Άρη”\, που κυκλοφορεί στις 19 Ιανουαρίου\, καθώς και αγαπημένα τραγούδια από όλη την δισκογραφία  του Pan Pan. \nΗ προπώληση ξεκινάει άμεσα προς 15€ και για περιορισμένο αριθμό εισιτηρίων. Μετά την εξάντλησή τους θα συνεχιστεί στα 17€. Στο ταμείο η τιμή θα είναι 20€. \nΔιάθεση εισιτηρίων: \n• Τηλεφωνικά στο 2117700000 \n• Online  more.com / Floyd.gr \n• Φυσικά σημεία: Καταστήματα Νova\, Public\, Ευριπίδης\, Yoleni’s\, Viva Spot Τεχνόπολης. \n \n\n \nFloyd live music venue: Πειραιώς 117\, Γκάζι\, Αθήνα\, πλησίον του Στ. Μετρό Κεραμεικός / Τηλ. 210 3416706 \nFollow Floyd: Official Website | Facebook | Instagram | TikTok | YouTube \nΟ Παναγιώτης (Pan Pan) κι ο Γιάννης (Years Of Youth) μοιράζονται 23 χρόνια φιλίας\, σε εφτά από τα οποία αποτελούν και μουσικούς συνοδοιπόρους στα Echo Tides. Τώρα\, ενώνουν δημιουργικά τις δυνάμεις τους σε έναν νέο δίσκο και ανεβαίνουν στη σκηνή του Floyd\, μαζί με μια full band στελεχωμένη από τους  φίλους τους\,  για να μας παρουσιάσουν ένα show όπου τα synthesizers\, τα vocoders και τα drum machines έχουν τον πρώτο ρόλο\, σε ένα χορευτικό ταξίδι προς το διάστημα. \nΕτοιμαστείτε για ένα ασταμάτητο party με τα super hits “Ανισόπεδη Ντίσκο” και “Χτύπα με σαν ρεύμα στην πίστα” μαζί με μουσική από Φαντασμαγορία Ένα\, Δύο και Τρία αλλά και τα\, ήδη γνωστά\, “Κάτι Να Σε Ζεσταίνει ” και “Ροζ Φώτα” από το νέο δίσκο. Ιστορίες για φίλους και έρωτες\, το soundtrack της πόλης\, η ποπ μουσική που μιλάει πολιτικά και χορεύεται από όλους! \n \nFollow Pan Pan:  Facebook  | Instagram  | Spotify  | Bandcamp \nFollow Years of Youth: Facebook | Instagram | Spotify 
URL:https://www.floyd.gr/event/pan-pan/
LOCATION:FLOYD\, Pireos 117\, Athens\, Greece
CATEGORIES:Featured,Συναύλιες
ATTACH;FMTTYPE=image/jpeg:https://www.floyd.gr/wp-content/uploads/2024/01/IMG_6022.jpg
END:VEVENT
END:VCALENDAR