BEGIN:VCALENDAR
VERSION:2.0
PRODID:-//Floyd Live Music Venue - ECPv6.15.17.1//NONSGML v1.0//EN
CALSCALE:GREGORIAN
METHOD:PUBLISH
X-ORIGINAL-URL:https://www.floyd.gr
X-WR-CALDESC:Events for Floyd Live Music Venue
REFRESH-INTERVAL;VALUE=DURATION:PT1H
X-Robots-Tag:noindex
X-PUBLISHED-TTL:PT1H
BEGIN:VTIMEZONE
TZID:UTC
BEGIN:STANDARD
TZOFFSETFROM:+0000
TZOFFSETTO:+0000
TZNAME:UTC
DTSTART:20230101T000000
END:STANDARD
END:VTIMEZONE
BEGIN:VEVENT
DTSTART;TZID=UTC:20240413T203000
DTEND;TZID=UTC:20240413T233000
DTSTAMP:20260419T221732
CREATED:20240220T084841Z
LAST-MODIFIED:20240410T171444Z
UID:8255-1713040200-1713051000@www.floyd.gr
SUMMARY:Παύλος Παυλίδης
DESCRIPTION:Ο Παύλος Παυλίδης\, μαζί με μια ανανεωμένη ομάδα σπουδαίων μουσικών\, ανεβαίνει για πρώτη φορά στη σκηνή του Floyd Live Venue\, το Σάββατο 13 Απριλίου\, σε μια διαφορετική συναυλιακή εμπειρία από εκείνες που έχουμε συνηθίσει\, με τη χρήση visuals να μας μεταφέρει σε ένα πρωτότυπο οπτικοακουστικό σύμπαν. \nΟι πόρτες ανοίγουν στις 20:00. O Παύλος Παυλίδης θα είναι στη σκηνή στις 22:00. \nΑυτή η μοναδική βραδιά θα περιλαμβάνει τραγούδια απ’ όλη τη μουσική πορεία του Παύλου Παυλίδη\, μαζί με ολοκαίνουργιο υλικό που θα κυκλοφορήσει σύντομα. Ταυτόχρονα\, η συγκεκριμένη συναυλία σηματοδοτεί τη νέα συνάντησή του με τον σκηνοθέτη και visual artist\, Βασίλη Κεχαγιά\, ο οποίος στη δεκαετία του ’90 δημιούργησε τα video clips σε τραγούδια των Ξύλινων Σπαθιών\, όπως τα “Ένα παράξενο τραγούδι”\, “Αρχίζω και θυμάμαι”\, “Πάρε με μαζί σου”\, “Grand Hotel”. \nΧρησιμοποιώντας κομμάτια απ’ την παγανιστική λαογραφία της Βόρειας Ελλάδας και ενσωματώνοντάς τα σε μια pop αισθητική\, ο Βασίλης Κεχαγιάς συνοδεύει το καινούργιο και επαναπροσεγγίζει το παλιότερο υλικό του Παυλίδη και μ’ αυτόν τον τρόπο οι δυο καλλιτέχνες μας οδηγούν σε μια εκστατική electro-punk γιορτή. \nΜια βραδιά που δεν πρέπει να χάσει κανείς! \nΠαίζουν οι μουσικοί: \nΑλέκος Γεωργουλόπουλος – κιθάρα\, synthesizers\, φωνητικά \nΑλέξης Σταυρόπουλος – τύμπανα\, sample pads \nΘανάσης Τζίνγκοβιτς – μπάσο\, κιθάρα\, φωνητικά \nAki Rei – πλήκτρα\, κιθάρα\, φωνητικά \nΗ προπώληση ξεκινάει άμεσα προς 15€ και για περιορισμένο αριθμό εισιτηρίων. \nΜετά την εξάντλησή τους θα συνεχιστεί στα 17€. \n \n\n \nΔιάθεση εισιτηρίων: \n\nΤηλεφωνικά στο 2117700000\nOnline more.com / Floyd.gr\nΦυσικά σημεία: Καταστήματα Νova\, Public\, Ευριπίδης\, Yoleni’s\, Viva Spot Τεχνόπολης.\n\nFloyd live music venue: Πειραιώς 117\, Γκάζι\, Αθήνα\, πλησίον του Στ. Μετρό Κεραμεικός / Τηλ. 210 3416706 \nFollow Floyd\nOfficial Website | Facebook  |  Instagram |  TikTok   | YouTube
URL:https://www.floyd.gr/event/pavlidis/
LOCATION:FLOYD\, Pireos 117\, Athens\, Greece
CATEGORIES:Featured,Συναύλιες
ATTACH;FMTTYPE=image/jpeg:https://www.floyd.gr/wp-content/uploads/2024/02/slider-o2.jpg
END:VEVENT
END:VCALENDAR